BEGIN:VCALENDAR
VERSION:2.0
PRODID:-//Feuerwehr Rittershausen e.V. - ECPv6.15.15//NONSGML v1.0//EN
CALSCALE:GREGORIAN
METHOD:PUBLISH
X-WR-CALNAME:Feuerwehr Rittershausen e.V.
X-ORIGINAL-URL:https://feuerwehr-rittershausen.de
X-WR-CALDESC:Veranstaltungen für Feuerwehr Rittershausen e.V.
REFRESH-INTERVAL;VALUE=DURATION:PT1H
X-Robots-Tag:noindex
X-PUBLISHED-TTL:PT1H
BEGIN:VTIMEZONE
TZID:UTC
BEGIN:STANDARD
TZOFFSETFROM:+0000
TZOFFSETTO:+0000
TZNAME:UTC
DTSTART:20250101T000000
END:STANDARD
END:VTIMEZONE
BEGIN:VEVENT
DTSTART;VALUE=DATE:20260425
DTEND;VALUE=DATE:20260426
DTSTAMP:20260425T144422
CREATED:20240205T061747Z
LAST-MODIFIED:20260114T072649Z
UID:182-1777075200-1777161599@feuerwehr-rittershausen.de
SUMMARY:Umwelttag
DESCRIPTION:
URL:https://feuerwehr-rittershausen.de/event/umwelttag/
END:VEVENT
BEGIN:VEVENT
DTSTART;TZID=UTC:20260620T180000
DTEND;TZID=UTC:20260620T180000
DTSTAMP:20260425T144422
CREATED:20251231T230030Z
LAST-MODIFIED:20260114T073307Z
UID:184-1781978400-1781978400@feuerwehr-rittershausen.de
SUMMARY:Sonnenwendfeuer
DESCRIPTION:
URL:https://feuerwehr-rittershausen.de/event/sonnenwendfeuer/
END:VEVENT
BEGIN:VEVENT
DTSTART;TZID=UTC:20260815T160000
DTEND;TZID=UTC:20260815T235900
DTSTAMP:20260425T144422
CREATED:20251231T230039Z
LAST-MODIFIED:20260114T074229Z
UID:197-1786809600-1786838340@feuerwehr-rittershausen.de
SUMMARY:Weinfest
DESCRIPTION:
URL:https://feuerwehr-rittershausen.de/event/weinfest/
END:VEVENT
BEGIN:VEVENT
DTSTART;VALUE=DATE:20260919
DTEND;VALUE=DATE:20260920
DTSTAMP:20260425T144422
CREATED:20251231T230000Z
LAST-MODIFIED:20260114T073740Z
UID:186-1789776000-1789862399@feuerwehr-rittershausen.de
SUMMARY:Wandertag
DESCRIPTION:
URL:https://feuerwehr-rittershausen.de/event/wandertag/
END:VEVENT
BEGIN:VEVENT
DTSTART;TZID=UTC:20261114T170000
DTEND;TZID=UTC:20261114T200000
DTSTAMP:20260425T144422
CREATED:20251231T230032Z
LAST-MODIFIED:20260114T073833Z
UID:188-1794675600-1794686400@feuerwehr-rittershausen.de
SUMMARY:Laternenfest
DESCRIPTION:
URL:https://feuerwehr-rittershausen.de/event/laternenfest/
END:VEVENT
BEGIN:VEVENT
DTSTART;TZID=UTC:20261229T090000
DTEND;TZID=UTC:20261229T120000
DTSTAMP:20260425T144422
CREATED:20251231T230010Z
LAST-MODIFIED:20260114T073909Z
UID:199-1798534800-1798545600@feuerwehr-rittershausen.de
SUMMARY:Grenzgang
DESCRIPTION:
URL:https://feuerwehr-rittershausen.de/event/grenzgang-2/
END:VEVENT
END:VCALENDAR